BEGIN:VCALENDAR
VERSION:2.0
PRODID:-//Liza Achilles - ECPv6.15.20//NONSGML v1.0//EN
CALSCALE:GREGORIAN
METHOD:PUBLISH
X-WR-CALNAME:Liza Achilles
X-ORIGINAL-URL:https://lizaachilles.com
X-WR-CALDESC:Events for Liza Achilles
REFRESH-INTERVAL;VALUE=DURATION:PT1H
X-Robots-Tag:noindex
X-PUBLISHED-TTL:PT1H
BEGIN:VTIMEZONE
TZID:America/New_York
BEGIN:DAYLIGHT
TZOFFSETFROM:-0500
TZOFFSETTO:-0400
TZNAME:EDT
DTSTART:20250309T070000
END:DAYLIGHT
BEGIN:STANDARD
TZOFFSETFROM:-0400
TZOFFSETTO:-0500
TZNAME:EST
DTSTART:20251102T060000
END:STANDARD
BEGIN:DAYLIGHT
TZOFFSETFROM:-0500
TZOFFSETTO:-0400
TZNAME:EDT
DTSTART:20260308T070000
END:DAYLIGHT
BEGIN:STANDARD
TZOFFSETFROM:-0400
TZOFFSETTO:-0500
TZNAME:EST
DTSTART:20261101T060000
END:STANDARD
BEGIN:DAYLIGHT
TZOFFSETFROM:-0500
TZOFFSETTO:-0400
TZNAME:EDT
DTSTART:20270314T070000
END:DAYLIGHT
BEGIN:STANDARD
TZOFFSETFROM:-0400
TZOFFSETTO:-0500
TZNAME:EST
DTSTART:20271107T060000
END:STANDARD
END:VTIMEZONE
BEGIN:VEVENT
DTSTART;TZID=America/New_York:20260307T130000
DTEND;TZID=America/New_York:20260307T140000
DTSTAMP:20260420T073714
CREATED:20260114T014751Z
LAST-MODIFIED:20260116T201456Z
UID:24733-1772888400-1772892000@lizaachilles.com
SUMMARY:PRESENTER | Black Writers' Guild of Maryland
DESCRIPTION:Liza Achilles will present “How to Generate a Buzz: Promoting Your Book Launch.” This is a virtual event. Information about the Black Writers’ Guild of Maryland is available at https://www.blackwritersguild.org. Guild members can attend this event at no additional cost. The public/non-members can attend for $7.18\, which includes the Eventbrite fee. Tickets for non-members are available here.
URL:https://lizaachilles.com/event/presenter-black-writers-guild-of-maryland/
LOCATION:Virtual
CATEGORIES:Writing & Publishing Speaker
ATTACH;FMTTYPE=image/png:https://lizaachilles.com/wp-content/uploads/2026/01/Screenshot-2026-01-13-204655.png
END:VEVENT
BEGIN:VEVENT
DTSTART;TZID=America/New_York:20260312T190000
DTEND;TZID=America/New_York:20260312T203000
DTSTAMP:20260420T073714
CREATED:20250910T173344Z
LAST-MODIFIED:20260112T170923Z
UID:24158-1773342000-1773347400@lizaachilles.com
SUMMARY:PRESENTER | Women's Fiction Writers Association
DESCRIPTION:Liza Achilles will present a webinar called “How to Generate a Buzz: Promoting Your Book Launch.” This event is sponsored by the Women’s Fiction Writers Association. \nDATE: Thursday\, March 12\, 2026\nTIME: 7 – 8:30 pm \nThis webinar is free for all Women’s Fiction Writers Association members. It is open to members only. The webinar will be recorded and kept in a password protected online community for members only. \nClick here for info about becoming a member.
URL:https://lizaachilles.com/event/presenter-womens-fiction-writers-association/
LOCATION:Virtual
CATEGORIES:Writing & Publishing Speaker
ATTACH;FMTTYPE=image/png:https://lizaachilles.com/wp-content/uploads/2025/09/WFWA.png
END:VEVENT
BEGIN:VEVENT
DTSTART;TZID=America/New_York:20260407T130000
DTEND;TZID=America/New_York:20260407T150000
DTSTAMP:20260420T073714
CREATED:20251112T143616Z
LAST-MODIFIED:20251112T143812Z
UID:24589-1775566800-1775574000@lizaachilles.com
SUMMARY:INSTRUCTOR | Osher Lifelong Learning Institute
DESCRIPTION:Liza Achilles will present a literature class for the Osher Lifelong Learning Institute at Johns Hopkins University. \nTuesday afternoons\, 1-3pm\, 6 weeks\, April 7 – May 12\, 2026\nThe Carnegie at Washingtonian Center in Gaithersburg \nShakespeare’s Sonnets: 400 Years of Timeless Love\nWilliam Shakespeare’s sonnet sequence was first published over 400 years ago and still resonates with readers today. “But thy eternal summer shall not fade\,” proclaims the most famous of them all (Sonnet 18). The poet addresses these words to a young man known as the Fair Youth; but the words also refer to the poetry itself. In this course\, we will read and discuss Shakespeare’s Sonnets\, including the 154 sonnets as well as the short narrative poem A Lover’s Complaint that was published with the sonnets in 1609. We will examine the life and times of Shakespeare and learn how he crafted these masterful 14-line poems\, which have often been underrated due to their shocking sexual content. We will also read selected sonnets by other writers from various historical periods\, from the Italian Renaissance through the twenty-first century. \nLearn more and register here.
URL:https://lizaachilles.com/event/instructor-osher-lifelong-learning-institute/
LOCATION:The Carnegie\, 10100 Washingtonian Blvd.\, Gaithersburg\, MD
CATEGORIES:Literature Instructor
ATTACH;FMTTYPE=image/webp:https://lizaachilles.com/wp-content/uploads/2025/11/Osher-Fall-Hero-1440x810-1-1440x617.jpg.webp
END:VEVENT
BEGIN:VEVENT
DTSTART;TZID=America/New_York:20260409T193000
DTEND;TZID=America/New_York:20260409T210000
DTSTAMP:20260420T073715
CREATED:20251112T141337Z
LAST-MODIFIED:20260114T015031Z
UID:24584-1775763000-1775768400@lizaachilles.com
SUMMARY:PRESENTER | Thursdays with ESWA
DESCRIPTION:Eastern Shore Writers Association (ESWA) presents Thursdays with ESWA. Presented online\, these are generative writing workshops\, craft sessions\, readings and more. Every Thursday night from 7:30-9pm EST on Zoom. Free & open to all! To join a session\, visit the ESWA home page at easternshorewriters.org. Liza Achilles will present “How to Generate a Buzz: Promoting Your Book Launch” on April 9 at 7:30pm.
URL:https://lizaachilles.com/event/presenter-thursdays-with-eswa/
LOCATION:Virtual
CATEGORIES:Writing & Publishing Speaker
ATTACH;FMTTYPE=image/png:https://lizaachilles.com/wp-content/uploads/2025/11/ESWA-logo.png
END:VEVENT
BEGIN:VEVENT
DTSTART;TZID=America/New_York:20260411T190000
DTEND;TZID=America/New_York:20260411T213000
DTSTAMP:20260420T073715
CREATED:20260408T160335Z
LAST-MODIFIED:20260408T160858Z
UID:24961-1775934000-1775943000@lizaachilles.com
SUMMARY:AUTHOR | 804 Lit Salon
DESCRIPTION:Catch me reading Two Novembers and participating in a Q&A at the 804 Lit Salon in Washington\, DC! I am one of several featured writers at this event. Learn more and RSVP.
URL:https://lizaachilles.com/event/author-804-lit-salon/
LOCATION:804 Lit Salon\, Washington\, DC
CATEGORIES:Two Novembers Author
ATTACH;FMTTYPE=image/png:https://lizaachilles.com/wp-content/uploads/2026/04/8e1d76cd-d752-8900-07be-e9a53f9c8439-1.png
END:VEVENT
BEGIN:VEVENT
DTSTART;TZID=America/New_York:20260416T183000
DTEND;TZID=America/New_York:20260416T193000
DTSTAMP:20260420T073715
CREATED:20251130T155642Z
LAST-MODIFIED:20260213T230742Z
UID:24668-1776364200-1776367800@lizaachilles.com
SUMMARY:AUTHOR | Writers LIVE! at the Enoch Pratt Free Library
DESCRIPTION:Featuring Liza Achilles reading from Two Novembers. Join me at the Light Street Branch of the Enoch Pratt Free Library in Baltimore. This event is part of the Writers LIVE! series. This event is free and open to the public. Click here for more details.
URL:https://lizaachilles.com/event/author-writers-live-at-the-enoch-pratt-free-library/
LOCATION:Enoch Pratt Free Library: Light Street Branch\, 1251 Light St\, Baltimore\, MD\, 21230
CATEGORIES:Two Novembers Author
ATTACH;FMTTYPE=image/png:https://lizaachilles.com/wp-content/uploads/2025/11/Enoch-Pratt-Free-Library_.png
END:VEVENT
BEGIN:VEVENT
DTSTART;VALUE=DATE:20260530
DTEND;VALUE=DATE:20260531
DTSTAMP:20260420T073715
CREATED:20260127T140604Z
LAST-MODIFIED:20260127T141213Z
UID:24782-1780099200-1780185599@lizaachilles.com
SUMMARY:PRESENTER | 2nd Books\, Authors & Publishers Fair
DESCRIPTION:Liza Achilles presents “How to Generate a Buzz: Promoting Your Book Launch” in Nashville\, Tennessee\, at the second annual Books\, Authors & Publishers Fair. Saturday\, May 30\, 2026. Time TBA. Expo Hall 3\, The Fairgrounds. Learn more at bapfair.com.
URL:https://lizaachilles.com/event/presenter-2nd-books-authors-publishers-fair/
LOCATION:Expo Hall 3\, The Fairgrounds\, 401 Wingrove Street\, Nashville\, TN\, 37203
ATTACH;FMTTYPE=image/png:https://lizaachilles.com/wp-content/uploads/2026/01/The-Books-Authors-Publishers-Fair.png
END:VEVENT
END:VCALENDAR