BEGIN:VCALENDAR
VERSION:2.0
PRODID:-//Liza Achilles - ECPv6.15.20//NONSGML v1.0//EN
CALSCALE:GREGORIAN
METHOD:PUBLISH
X-WR-CALNAME:Liza Achilles
X-ORIGINAL-URL:https://lizaachilles.com
X-WR-CALDESC:Events for Liza Achilles
REFRESH-INTERVAL;VALUE=DURATION:PT1H
X-Robots-Tag:noindex
X-PUBLISHED-TTL:PT1H
BEGIN:VTIMEZONE
TZID:America/New_York
BEGIN:DAYLIGHT
TZOFFSETFROM:-0500
TZOFFSETTO:-0400
TZNAME:EDT
DTSTART:20250309T070000
END:DAYLIGHT
BEGIN:STANDARD
TZOFFSETFROM:-0400
TZOFFSETTO:-0500
TZNAME:EST
DTSTART:20251102T060000
END:STANDARD
BEGIN:DAYLIGHT
TZOFFSETFROM:-0500
TZOFFSETTO:-0400
TZNAME:EDT
DTSTART:20260308T070000
END:DAYLIGHT
BEGIN:STANDARD
TZOFFSETFROM:-0400
TZOFFSETTO:-0500
TZNAME:EST
DTSTART:20261101T060000
END:STANDARD
BEGIN:DAYLIGHT
TZOFFSETFROM:-0500
TZOFFSETTO:-0400
TZNAME:EDT
DTSTART:20270314T070000
END:DAYLIGHT
BEGIN:STANDARD
TZOFFSETFROM:-0400
TZOFFSETTO:-0500
TZNAME:EST
DTSTART:20271107T060000
END:STANDARD
END:VTIMEZONE
BEGIN:VEVENT
DTSTART;VALUE=DATE:20260530
DTEND;VALUE=DATE:20260531
DTSTAMP:20260420T073416
CREATED:20260127T140604Z
LAST-MODIFIED:20260127T141213Z
UID:24782-1780099200-1780185599@lizaachilles.com
SUMMARY:PRESENTER | 2nd Books\, Authors & Publishers Fair
DESCRIPTION:Liza Achilles presents “How to Generate a Buzz: Promoting Your Book Launch” in Nashville\, Tennessee\, at the second annual Books\, Authors & Publishers Fair. Saturday\, May 30\, 2026. Time TBA. Expo Hall 3\, The Fairgrounds. Learn more at bapfair.com.
URL:https://lizaachilles.com/event/presenter-2nd-books-authors-publishers-fair/
LOCATION:Expo Hall 3\, The Fairgrounds\, 401 Wingrove Street\, Nashville\, TN\, 37203
ATTACH;FMTTYPE=image/png:https://lizaachilles.com/wp-content/uploads/2026/01/The-Books-Authors-Publishers-Fair.png
END:VEVENT
END:VCALENDAR