BEGIN:VCALENDAR
VERSION:2.0
PRODID:-//Liza Achilles - ECPv6.15.20//NONSGML v1.0//EN
CALSCALE:GREGORIAN
METHOD:PUBLISH
X-WR-CALNAME:Liza Achilles
X-ORIGINAL-URL:https://lizaachilles.com
X-WR-CALDESC:Events for Liza Achilles
REFRESH-INTERVAL;VALUE=DURATION:PT1H
X-Robots-Tag:noindex
X-PUBLISHED-TTL:PT1H
BEGIN:VTIMEZONE
TZID:America/New_York
BEGIN:DAYLIGHT
TZOFFSETFROM:-0500
TZOFFSETTO:-0400
TZNAME:EDT
DTSTART:20240310T070000
END:DAYLIGHT
BEGIN:STANDARD
TZOFFSETFROM:-0400
TZOFFSETTO:-0500
TZNAME:EST
DTSTART:20241103T060000
END:STANDARD
BEGIN:DAYLIGHT
TZOFFSETFROM:-0500
TZOFFSETTO:-0400
TZNAME:EDT
DTSTART:20250309T070000
END:DAYLIGHT
BEGIN:STANDARD
TZOFFSETFROM:-0400
TZOFFSETTO:-0500
TZNAME:EST
DTSTART:20251102T060000
END:STANDARD
BEGIN:DAYLIGHT
TZOFFSETFROM:-0500
TZOFFSETTO:-0400
TZNAME:EDT
DTSTART:20260308T070000
END:DAYLIGHT
BEGIN:STANDARD
TZOFFSETFROM:-0400
TZOFFSETTO:-0500
TZNAME:EST
DTSTART:20261101T060000
END:STANDARD
END:VTIMEZONE
BEGIN:VEVENT
DTSTART;TZID=America/New_York:20250907T130000
DTEND;TZID=America/New_York:20250907T160000
DTSTAMP:20260420T053949
CREATED:20250409T112340Z
LAST-MODIFIED:20250614T115137Z
UID:23305-1757250000-1757260800@lizaachilles.com
SUMMARY:WORKSHOP PRESENTER | Sudbrook Park Book Fest
DESCRIPTION:Come to this event for book lovers in Sudbrook Park\, in a quaint suburb of Baltimore! This is a book fest for all ages to celebrate a love of reading\, writing\, and creativity. Liza Achilles will be presenting two workshops: Finding the Time: 10 Tips for Fitting Writing into Your Life (2:00-2:30 pm) and Be the Book: How to Meet Your Life Goals Through Reading (3:00-3:30 pm). This event is free and open to the public. Learn more here.
URL:https://lizaachilles.com/event/workshop-presenter-sudbrook-park-book-fest/
LOCATION:Sudbrook Park\, 616 McHenry Rd\, Pikesville\, MD\, 21208
CATEGORIES:Writing & Publishing Speaker
ATTACH;FMTTYPE=image/png:https://lizaachilles.com/wp-content/uploads/2025/04/sudbrook-park-logo-16x9-1.png
ORGANIZER;CN="Sudbrook Park":MAILTO:btpbookbinders@gmail.com
END:VEVENT
BEGIN:VEVENT
DTSTART;TZID=America/New_York:20250517T100000
DTEND;TZID=America/New_York:20250517T180000
DTSTAMP:20260420T053949
CREATED:20250315T135954Z
LAST-MODIFIED:20250416T141410Z
UID:22979-1747476000-1747504800@lizaachilles.com
SUMMARY:MODERATOR | 2025 Gaithersburg Book Festival
DESCRIPTION:Liza Achilles will be the moderator of a conversation with Aggie Blum Thompson\, author of You Deserve to Know\, and Christine Gunderson\, author of Friends with Secrets. She will be signing her own book Two Novembers after the event. She will also have a booth where she will be selling Two Novembers. \nThis daylong event is free and open to the public. Learn more at the event website.
URL:https://lizaachilles.com/event/2025-gaithersburg-book-festival/
LOCATION:Bohrer Park\, 506 S Frederick Avenue\, Gaithersburg\, MD
CATEGORIES:Interviewer or Moderator,Two Novembers Author
ATTACH;FMTTYPE=image/png:https://lizaachilles.com/wp-content/uploads/2025/03/logo-gbf-2.png
END:VEVENT
BEGIN:VEVENT
DTSTART;VALUE=DATE:20250502
DTEND;VALUE=DATE:20250504
DTSTAMP:20260420T053949
CREATED:20250315T132338Z
LAST-MODIFIED:20250401T200041Z
UID:22963-1746144000-1746316799@lizaachilles.com
SUMMARY:PANELIST | 2025 Washington Writers Conference
DESCRIPTION:Calling all writers: attend the conference to pitch to literary agents\, learn about writing and publishing\, and network with other writers. Register early to get the best rate! Liza Achilles will be a panelist for the Debut Authors session. The session will feature her debut book Two Novembers. \nLearn more and register at the event website.
URL:https://lizaachilles.com/event/2025-washington-writers-conference/
LOCATION:Bethesda North Marriott Hotel & Conference Center\, 5701 Marinelli Road\, Rockville\, MD
CATEGORIES:Two Novembers Author
ATTACH;FMTTYPE=image/png:https://lizaachilles.com/wp-content/uploads/2025/03/Washington-Writers-Conference-logo.png
END:VEVENT
BEGIN:VEVENT
DTSTART;TZID=America/New_York:20250427T170000
DTEND;TZID=America/New_York:20250427T190000
DTSTAMP:20260420T053949
CREATED:20250401T181137Z
LAST-MODIFIED:20250401T181727Z
UID:23215-1745773200-1745780400@lizaachilles.com
SUMMARY:AUTHOR | Takoma Writers
DESCRIPTION:Takoma Writers presents Story! Story! Story! An Epic Evening. Come join us for a night of creativity and inspiration at Busboys and Poets. This event is the perfect opportunity to connect with and support our writers\, Carolivia Herron\, Mary Dempsey\, Liza Achilles\, Tyrone Colbert\, Cheryle Crawford-Johnson\, Valerie Galindo\, Michael McCormick\, Osman Njai\, and Clinton Parks\, as they share their work (some for the first time). Suggested donation $10 per adult. Reserve your spot here.
URL:https://lizaachilles.com/event/author-takoma-writers/
LOCATION:Busboys & Poets Takoma\, 235 Carroll Street NW\, Washington\, DC
CATEGORIES:Two Novembers Author
ATTACH;FMTTYPE=image/png:https://lizaachilles.com/wp-content/uploads/2025/04/logo-landscape.png
END:VEVENT
BEGIN:VEVENT
DTSTART;TZID=America/New_York:20250408T120000
DTEND;TZID=America/New_York:20250408T130000
DTSTAMP:20260420T053949
CREATED:20250315T134929Z
LAST-MODIFIED:20250317T143743Z
UID:22975-1744113600-1744117200@lizaachilles.com
SUMMARY:PANELIST | Brown Bag Lit
DESCRIPTION:Liza Achilles will be a panelist for the April Brown Bag Lit event “Love on the Page: Transforming Passion into Words.”  \nJoin us for an intimate literary event celebrating the art of writing about love\, desire\, and personal transformation. We’ll celebrate how exploring these themes—as a writer and reader—can help us find grounding during these chaotic\, dark times. Featured writers are poet and blogger Liza Achilles\, and pleasure coach and author Laura Zam. Liza will read from her book Two Novembers: A Memoir of Love ’n’ Sex in Sonnets and Laura from her book The Pleasure Plan. They’ll share not only a bit of their personal journeys\, but also how they translated it into writing. Come for the love stories and stay for how you can apply the messages to your own life and pages. \nRegister for free for the Zoom link.
URL:https://lizaachilles.com/event/brown-bag-lit/
LOCATION:Virtual
CATEGORIES:Two Novembers Author
ATTACH;FMTTYPE=image/png:https://lizaachilles.com/wp-content/uploads/2025/03/Brown-Bag-Lit-A-Writing-Community-with-Chloe-Yelena-Miller-and-Shasta-Grant.png
END:VEVENT
BEGIN:VEVENT
DTSTART;TZID=America/New_York:20250331T190000
DTEND;TZID=America/New_York:20250331T210000
DTSTAMP:20260420T053949
CREATED:20250315T123502Z
LAST-MODIFIED:20250317T145729Z
UID:22953-1743447600-1743454800@lizaachilles.com
SUMMARY:AUTHOR | Ellevate Book Club: Women & Words
DESCRIPTION:Welcome to the March Book Club for “Women and Words” – Two Novembers by Liza Achilles! Join us for a lively discussion at Busboys and Poets. Let’s dive into the world of this captivating book of love poetry together. Don’t miss out on the chance to connect with fellow book lovers and share your thoughts on this compelling and humorous love story.  \nRegister for free.  \nGet the book: Amazon | Barnes & Noble | Beltway Editions | Bookshop | Politics & Prose
URL:https://lizaachilles.com/event/ellevate-book-club-women-words/
LOCATION:Busboys & Poets 450 K\, 450 K Street NW\, Washington\, DC
CATEGORIES:Two Novembers Author
ATTACH;FMTTYPE=image/png:https://lizaachilles.com/wp-content/uploads/2017/08/Screenshot-2025-02-11-160852.png
END:VEVENT
END:VCALENDAR