BEGIN:VCALENDAR
VERSION:2.0
PRODID:-//Liza Achilles - ECPv6.15.20//NONSGML v1.0//EN
CALSCALE:GREGORIAN
METHOD:PUBLISH
X-ORIGINAL-URL:https://lizaachilles.com
X-WR-CALDESC:Events for Liza Achilles
REFRESH-INTERVAL;VALUE=DURATION:PT1H
X-Robots-Tag:noindex
X-PUBLISHED-TTL:PT1H
BEGIN:VTIMEZONE
TZID:America/New_York
BEGIN:DAYLIGHT
TZOFFSETFROM:-0500
TZOFFSETTO:-0400
TZNAME:EDT
DTSTART:20250309T070000
END:DAYLIGHT
BEGIN:STANDARD
TZOFFSETFROM:-0400
TZOFFSETTO:-0500
TZNAME:EST
DTSTART:20251102T060000
END:STANDARD
BEGIN:DAYLIGHT
TZOFFSETFROM:-0500
TZOFFSETTO:-0400
TZNAME:EDT
DTSTART:20260308T070000
END:DAYLIGHT
BEGIN:STANDARD
TZOFFSETFROM:-0400
TZOFFSETTO:-0500
TZNAME:EST
DTSTART:20261101T060000
END:STANDARD
BEGIN:DAYLIGHT
TZOFFSETFROM:-0500
TZOFFSETTO:-0400
TZNAME:EDT
DTSTART:20270314T070000
END:DAYLIGHT
BEGIN:STANDARD
TZOFFSETFROM:-0400
TZOFFSETTO:-0500
TZNAME:EST
DTSTART:20271107T060000
END:STANDARD
END:VTIMEZONE
BEGIN:VEVENT
DTSTART;TZID=America/New_York:20260307T130000
DTEND;TZID=America/New_York:20260307T140000
DTSTAMP:20260420T054010
CREATED:20260114T014751Z
LAST-MODIFIED:20260116T201456Z
UID:24733-1772888400-1772892000@lizaachilles.com
SUMMARY:PRESENTER | Black Writers' Guild of Maryland
DESCRIPTION:Liza Achilles will present “How to Generate a Buzz: Promoting Your Book Launch.” This is a virtual event. Information about the Black Writers’ Guild of Maryland is available at https://www.blackwritersguild.org. Guild members can attend this event at no additional cost. The public/non-members can attend for $7.18\, which includes the Eventbrite fee. Tickets for non-members are available here.
URL:https://lizaachilles.com/event/presenter-black-writers-guild-of-maryland/
LOCATION:Virtual
CATEGORIES:Writing & Publishing Speaker
ATTACH;FMTTYPE=image/png:https://lizaachilles.com/wp-content/uploads/2026/01/Screenshot-2026-01-13-204655.png
END:VEVENT
BEGIN:VEVENT
DTSTART;TZID=America/New_York:20260312T190000
DTEND;TZID=America/New_York:20260312T203000
DTSTAMP:20260420T054010
CREATED:20250910T173344Z
LAST-MODIFIED:20260112T170923Z
UID:24158-1773342000-1773347400@lizaachilles.com
SUMMARY:PRESENTER | Women's Fiction Writers Association
DESCRIPTION:Liza Achilles will present a webinar called “How to Generate a Buzz: Promoting Your Book Launch.” This event is sponsored by the Women’s Fiction Writers Association. \nDATE: Thursday\, March 12\, 2026\nTIME: 7 – 8:30 pm \nThis webinar is free for all Women’s Fiction Writers Association members. It is open to members only. The webinar will be recorded and kept in a password protected online community for members only. \nClick here for info about becoming a member.
URL:https://lizaachilles.com/event/presenter-womens-fiction-writers-association/
LOCATION:Virtual
CATEGORIES:Writing & Publishing Speaker
ATTACH;FMTTYPE=image/png:https://lizaachilles.com/wp-content/uploads/2025/09/WFWA.png
END:VEVENT
END:VCALENDAR